BEGIN:VCALENDAR
VERSION:2.0
PRODID:icalendar-ruby
CALSCALE:GREGORIAN
METHOD:PUBLISH
BEGIN:VEVENT
DTSTAMP:20260423T181452Z
UID:15-420185@faithofsaginaw.org
DTSTART:20260705T150000Z
DTEND:20260705T160000Z
CLASS:PUBLIC
CREATED:20260423T134614
DESCRIPTION:Sunday Morning Service
LAST-MODIFIED:20260423T134614
LOCATION:4690 Tittabawassee Rd Saginaw MI
SUMMARY:Sunday Morning Service
URL;VALUE=URI:https://www.faithofsaginaw.org/events/sunday-morning-service/
 2026-07-05
ATTACH;FILENAME=FBC-Background.jpg;FMTTYPE=image/jpeg:https://dq5pwpg1q8ru0
 .cloudfront.net/2024/07/14/13/44/41/f28662ee-49ee-4aea-adb8-9f85b73af3df/F
 BC-Background.jpg
END:VEVENT
END:VCALENDAR
